BEGIN:VCALENDAR
VERSION:2.0
PRODID:-//Toastmasters Agora 75 - ECPv6.15.20//NONSGML v1.0//EN
CALSCALE:GREGORIAN
METHOD:PUBLISH
X-ORIGINAL-URL:https://www.toastmasters.agora75.com
X-WR-CALDESC:Évènements pour Toastmasters Agora 75
REFRESH-INTERVAL;VALUE=DURATION:PT1H
X-Robots-Tag:noindex
X-PUBLISHED-TTL:PT1H
BEGIN:VTIMEZONE
TZID:Europe/Paris
BEGIN:DAYLIGHT
TZOFFSETFROM:+0100
TZOFFSETTO:+0200
TZNAME:CEST
DTSTART:20220327T010000
END:DAYLIGHT
BEGIN:STANDARD
TZOFFSETFROM:+0200
TZOFFSETTO:+0100
TZNAME:CET
DTSTART:20221030T010000
END:STANDARD
BEGIN:DAYLIGHT
TZOFFSETFROM:+0100
TZOFFSETTO:+0200
TZNAME:CEST
DTSTART:20230326T010000
END:DAYLIGHT
BEGIN:STANDARD
TZOFFSETFROM:+0200
TZOFFSETTO:+0100
TZNAME:CET
DTSTART:20231029T010000
END:STANDARD
BEGIN:DAYLIGHT
TZOFFSETFROM:+0100
TZOFFSETTO:+0200
TZNAME:CEST
DTSTART:20240331T010000
END:DAYLIGHT
BEGIN:STANDARD
TZOFFSETFROM:+0200
TZOFFSETTO:+0100
TZNAME:CET
DTSTART:20241027T010000
END:STANDARD
END:VTIMEZONE
BEGIN:VEVENT
DTSTART;TZID=Europe/Paris:20231204T193000
DTEND;TZID=Europe/Paris:20231204T213000
DTSTAMP:20260422T101535
CREATED:20230829T183340Z
LAST-MODIFIED:20230916T125309Z
UID:831-1701718200-1701725400@www.toastmasters.agora75.com
SUMMARY:Les séries télévisées
DESCRIPTION:Cette réunion sera une réunion sur le thème des séries télévisées\nLa réunion aura lieu lundi 4 décembre 2023 de 19H30 à 21H30 au sous-sol de l’église Saint-Eloi située dans la salle de l’aumonerie\n(Au sous-sol au fond du couloir). \nVous pouvez assister gratuitement à la prochaine réunion\, merci de remplir ce formulaire. \nNous contacter
URL:https://www.toastmasters.agora75.com/evenement/lundi-4-decembre-2023/
LOCATION:Saint Eloi\, 7 place Maurice de Fontenoy\, PARIS\, 75012\, France
ATTACH;FMTTYPE=image/jpeg:https://www.toastmasters.agora75.com/wp-content/uploads/2023/08/Les-series.jpg
END:VEVENT
BEGIN:VEVENT
DTSTART;TZID=Europe/Paris:20231218T193000
DTEND;TZID=Europe/Paris:20231218T213000
DTSTAMP:20260422T101535
CREATED:20230829T183723Z
LAST-MODIFIED:20230916T124513Z
UID:833-1702927800-1702935000@www.toastmasters.agora75.com
SUMMARY:La fable
DESCRIPTION:Cette réunion sera une réunion sur le thème de la fable.\nLa réunion aura lieu lundi 18  décembre 2023 de 19H30 à 21H30 au sous-sol de l’église Saint-Eloi située dans la salle de l’aumonerie\n(Au sous-sol au fond du couloir). \nVous pouvez assister gratuitement à la prochaine réunion\, merci de remplir ce formulaire. \nNous contacter
URL:https://www.toastmasters.agora75.com/evenement/lundi-18-decembre-2023/
LOCATION:Saint Eloi\, 7 place Maurice de Fontenoy\, PARIS\, 75012\, France
ATTACH;FMTTYPE=image/jpeg:https://www.toastmasters.agora75.com/wp-content/uploads/2023/08/La-fable.jpg
END:VEVENT
END:VCALENDAR