BEGIN:VCALENDAR
VERSION:2.0
PRODID:-//Toastmasters Agora 75 - ECPv6.15.20//NONSGML v1.0//EN
CALSCALE:GREGORIAN
METHOD:PUBLISH
X-ORIGINAL-URL:https://www.toastmasters.agora75.com
X-WR-CALDESC:Évènements pour Toastmasters Agora 75
REFRESH-INTERVAL;VALUE=DURATION:PT1H
X-Robots-Tag:noindex
X-PUBLISHED-TTL:PT1H
BEGIN:VTIMEZONE
TZID:Europe/Paris
BEGIN:DAYLIGHT
TZOFFSETFROM:+0100
TZOFFSETTO:+0200
TZNAME:CEST
DTSTART:20230326T010000
END:DAYLIGHT
BEGIN:STANDARD
TZOFFSETFROM:+0200
TZOFFSETTO:+0100
TZNAME:CET
DTSTART:20231029T010000
END:STANDARD
BEGIN:DAYLIGHT
TZOFFSETFROM:+0100
TZOFFSETTO:+0200
TZNAME:CEST
DTSTART:20240331T010000
END:DAYLIGHT
BEGIN:STANDARD
TZOFFSETFROM:+0200
TZOFFSETTO:+0100
TZNAME:CET
DTSTART:20241027T010000
END:STANDARD
BEGIN:DAYLIGHT
TZOFFSETFROM:+0100
TZOFFSETTO:+0200
TZNAME:CEST
DTSTART:20250330T010000
END:DAYLIGHT
BEGIN:STANDARD
TZOFFSETFROM:+0200
TZOFFSETTO:+0100
TZNAME:CET
DTSTART:20251026T010000
END:STANDARD
END:VTIMEZONE
BEGIN:VEVENT
DTSTART;TZID=Europe/Paris:20240701T193000
DTEND;TZID=Europe/Paris:20240701T213000
DTSTAMP:20260421T230008
CREATED:20230829T220013Z
LAST-MODIFIED:20240120T160026Z
UID:890-1719862200-1719869400@www.toastmasters.agora75.com
SUMMARY:La lecture
DESCRIPTION:Cette réunion sera sur le thème de la lecture.\nLa réunion aura lieu lundi 1er juillet 2024 de 19H30 à 21H30 au sous-sol de l’église Saint-Eloi située dans la salle de l’aumonerie\n(Au sous-sol au fond du couloir). \nVous pouvez assister gratuitement à la prochaine réunion\, merci de remplir ce formulaire. \nNous contacter
URL:https://www.toastmasters.agora75.com/evenement/lundi-1er-juillet-2024/
LOCATION:Saint Eloi\, 7 place Maurice de Fontenoy\, PARIS\, 75012\, France
ATTACH;FMTTYPE=image/jpeg:https://www.toastmasters.agora75.com/wp-content/uploads/2023/08/arozowykwiat_a_wooman_reading_a_book_photorealistic_style_alpha_C1.jpg
END:VEVENT
BEGIN:VEVENT
DTSTART;TZID=Europe/Paris:20240715T193000
DTEND;TZID=Europe/Paris:20240715T213000
DTSTAMP:20260421T230008
CREATED:20230829T220714Z
LAST-MODIFIED:20240120T171517Z
UID:894-1721071800-1721079000@www.toastmasters.agora75.com
SUMMARY:Le sport
DESCRIPTION:Cette réunion sera sur le thème du sport.\nLa réunion aura lieu lundi 15 juillet 2024 de 19H30 à 21H30 au sous-sol de l’église Saint-Eloi située dans la salle de l’aumonerie\n(Au sous-sol au fond du couloir). \nVous pouvez assister gratuitement à la prochaine réunion\, merci de remplir ce formulaire. \nNous contacter
URL:https://www.toastmasters.agora75.com/evenement/reunion-standard-3/
LOCATION:Saint Eloi\, 7 place Maurice de Fontenoy\, PARIS\, 75012\, France
ATTACH;FMTTYPE=image/jpeg:https://www.toastmasters.agora75.com/wp-content/uploads/2023/08/arozowykwiat_a_man_pole_vaulter_in_mid-action_against_a_clear_v1.jpg
END:VEVENT
END:VCALENDAR