BEGIN:VCALENDAR
VERSION:2.0
PRODID:-//Toastmasters Agora 75 - ECPv6.15.20//NONSGML v1.0//EN
CALSCALE:GREGORIAN
METHOD:PUBLISH
X-ORIGINAL-URL:https://www.toastmasters.agora75.com
X-WR-CALDESC:Évènements pour Toastmasters Agora 75
REFRESH-INTERVAL;VALUE=DURATION:PT1H
X-Robots-Tag:noindex
X-PUBLISHED-TTL:PT1H
BEGIN:VTIMEZONE
TZID:Europe/Paris
BEGIN:DAYLIGHT
TZOFFSETFROM:+0100
TZOFFSETTO:+0200
TZNAME:CEST
DTSTART:20230326T010000
END:DAYLIGHT
BEGIN:STANDARD
TZOFFSETFROM:+0200
TZOFFSETTO:+0100
TZNAME:CET
DTSTART:20231029T010000
END:STANDARD
BEGIN:DAYLIGHT
TZOFFSETFROM:+0100
TZOFFSETTO:+0200
TZNAME:CEST
DTSTART:20240331T010000
END:DAYLIGHT
BEGIN:STANDARD
TZOFFSETFROM:+0200
TZOFFSETTO:+0100
TZNAME:CET
DTSTART:20241027T010000
END:STANDARD
BEGIN:DAYLIGHT
TZOFFSETFROM:+0100
TZOFFSETTO:+0200
TZNAME:CEST
DTSTART:20250330T010000
END:DAYLIGHT
BEGIN:STANDARD
TZOFFSETFROM:+0200
TZOFFSETTO:+0100
TZNAME:CET
DTSTART:20251026T010000
END:STANDARD
END:VTIMEZONE
BEGIN:VEVENT
DTSTART;TZID=Europe/Paris:20240429T193000
DTEND;TZID=Europe/Paris:20240429T213000
DTSTAMP:20260422T034116
CREATED:20230829T202649Z
LAST-MODIFIED:20240120T122652Z
UID:854-1714419000-1714426200@www.toastmasters.agora75.com
SUMMARY:L'optimisme
DESCRIPTION:Cette réunion sera sur le thème de l’optimisme\nLa réunion aura lieu lundi 29 avril 2024 de 19H30 à 21H30 au sous-sol de l’église Saint-Eloi située dans la salle de l’aumonerie\n(Au sous-sol au fond du couloir). \nVous pouvez assister gratuitement à la prochaine réunion\, merci de remplir ce formulaire. \nNous contacter
URL:https://www.toastmasters.agora75.com/evenement/lundi-29-avril-2024/
LOCATION:Saint Eloi\, 7 place Maurice de Fontenoy\, PARIS\, 75012\, France
ATTACH;FMTTYPE=image/png:https://www.toastmasters.agora75.com/wp-content/uploads/2023/08/arozowykwiat_Chemin_forestier_se_separant_en_plusieurs_voies.png
END:VEVENT
END:VCALENDAR