BEGIN:VCALENDAR
VERSION:2.0
PRODID:-//Toastmasters Agora 75 - ECPv6.15.20//NONSGML v1.0//EN
CALSCALE:GREGORIAN
METHOD:PUBLISH
X-ORIGINAL-URL:https://www.toastmasters.agora75.com
X-WR-CALDESC:Évènements pour Toastmasters Agora 75
REFRESH-INTERVAL;VALUE=DURATION:PT1H
X-Robots-Tag:noindex
X-PUBLISHED-TTL:PT1H
BEGIN:VTIMEZONE
TZID:Europe/Paris
BEGIN:DAYLIGHT
TZOFFSETFROM:+0100
TZOFFSETTO:+0200
TZNAME:CEST
DTSTART:20230326T010000
END:DAYLIGHT
BEGIN:STANDARD
TZOFFSETFROM:+0200
TZOFFSETTO:+0100
TZNAME:CET
DTSTART:20231029T010000
END:STANDARD
BEGIN:DAYLIGHT
TZOFFSETFROM:+0100
TZOFFSETTO:+0200
TZNAME:CEST
DTSTART:20240331T010000
END:DAYLIGHT
BEGIN:STANDARD
TZOFFSETFROM:+0200
TZOFFSETTO:+0100
TZNAME:CET
DTSTART:20241027T010000
END:STANDARD
BEGIN:DAYLIGHT
TZOFFSETFROM:+0100
TZOFFSETTO:+0200
TZNAME:CEST
DTSTART:20250330T010000
END:DAYLIGHT
BEGIN:STANDARD
TZOFFSETFROM:+0200
TZOFFSETTO:+0100
TZNAME:CET
DTSTART:20251026T010000
END:STANDARD
END:VTIMEZONE
BEGIN:VEVENT
DTSTART;TZID=Europe/Paris:20241202T193000
DTEND;TZID=Europe/Paris:20241202T223000
DTSTAMP:20260420T133625
CREATED:20241005T133611Z
LAST-MODIFIED:20241005T141237Z
UID:1137-1733167800-1733178600@www.toastmasters.agora75.com
SUMMARY:Le pouvoir
DESCRIPTION:Cette réunion sera une réunion classique sur le thème du pouvoir.\nLa réunion aura lieu lundi 2 décembre 2024 de 19H30 à 21H30 au sous-sol de l’église Saint-Eloi située dans la salle de l’aumonerie\n(Au sous-sol au fond du couloir).\nVous pouvez assister gratuitement à la prochaine réunion\, merci de remplir ce formulaire. \nNous contacter\nL’image est réalisée avec l’intelligence artificielle MidJourney.
URL:https://www.toastmasters.agora75.com/evenement/le-pouvoir/
LOCATION:Saint Eloi\, 7 place Maurice de Fontenoy\, PARIS\, 75012\, France
ATTACH;FMTTYPE=image/webp:https://www.toastmasters.agora75.com/wp-content/uploads/2024/10/arozowykwiat_Un_trone_imposant_en_bois_sculpte_et_orne_de_motif_480366be-c48b-44e9-a848-3e540ba8b9fd.webp
END:VEVENT
END:VCALENDAR